BEGIN:VCALENDAR
VERSION:2.0
PRODID:-//schwarzes-muenchen.de/events//DE
CALSCALE:GREGORIAN
X-WR-TIMEZONE:Europe/Berlin
BEGIN:VEVENT
SUMMARY:Arbeitsgruppe Lobotomie + Infektum + Acht Bier später
DTSTART:20240824T190000
DTSTAMP:20260426T055759Z
UID:event-1683@schwarzes-muenchen.de
CATEGORIES:
CREATED:20240816T095354Z
DESCRIPTION:Arbeitsgruppe Lobotomie (Elektro-Rock zur Bewegung)\n+ Infektu
 m (Industrial Metal aus Berlin)\n+ Acht Bier später (Punkrock aus Münche
 n)\n\nEin unvergesslicher\, lustiger und natürlich harter Abend wartet au
 f dich. Hier gibt es von "8 BIER SPÄTER" über "INFEKTUM" bis hin zur "AR
 BEITSGRUPPE LOBOTOMIE" alles was ein guter Abend braucht. Feier mit uns da
 s neue Album der AGL\, welches am selben Tag veröffentlicht wird und geni
 eße die Schau und die Klänge der hervorragenden Bands INFEKTUM und 8 BIE
 R SPÄTER!\n\nInhaltslose Eintönigkeit war gestern! Die Arbeitsgruppe Lob
 otomie stellt die Fragen der Zeit mit einer außergewöhnlichen Darbietung
 \; mal provokativ\, mal mit einem Augenzwinkern.\nDie AGL verbindet NDH mi
 t Frauengesang\, Metal-Gitarren mit Satire und eine Ballerina mit einer ex
 altierten Bühnenperformance. Der imposante\, treibende Beat mit schweren 
 Gitarren\, zarten Frauenstimmen\, tiefer Männerstimme und einer (meistens
 ) eindeutigen Botschaft lädt zum Tanzen ein.\nSelbst nennt die Band ihren
  Musikstil „Satirischer Bewegungs-Metal“.\nBegleitet wird das von eine
 r eigenwilligen Gestaltung der visuellen Darstellung in Musikfilmen und Fo
 tos. Das Sepia-Farbschema soll auf die gesellschaftlichen und politischen 
 Parallelen zwischen den 1920ern und 2020ern hinweisen und vor Wiederholung
  der Geschichte warnen.
GEO:48.14473;11.52152
LOCATION:Backstage Club\, München
URL:https://schwarzes-muenchen.de/events/details/1683-arbeitsgruppe-loboto
 mie-infektum-acht-bier-spater
END:VEVENT
END:VCALENDAR
